Workbook

Sheet Dados
B2: Resultados | C2: Jan | D2: Fev | E2: Mar | F2: Abr | G2: Mai | H2: Jun | I2: Jul | J2: Ago | K2: Set | L2: Out | M2: Nov | N2: Dez | O2: Total
B3: Nº de Pesquisas Realizadas | C3: 1430 | D3: 1367 | E3: 1367 | F3: 1430 | G3: 1430 | H3: 1300 | I3: 1497 | J3: 1430 | O3: =SUM(C3:N3) -> 11251
B4: Nº de Resultados Bom/Ótimo | C4: 1408 | D4: 1339 | E4: 1339 | F4: 1386 | G4: 1410 | H4: 1275 | I4: 1472 | J4: 1405 | O4: =SUM(C4:N4) -> 11034
B5: Nº de Resultados Ruim/Péssimo | C5: 14 | D5: 12 | E5: 12 | F5: 19 | G5: 7 | H5: 11 | I5: 10 | J5: 11 | O5: =SUM(C5:N5) -> 96
B6: Total de Ações Realizadas para Resultados Ruim/Péssimo | C6: 14 | D6: 12 | E6: 12 | F6: 19 | G6: 7 | H6: 11 | I6: 10 | J6: 11 | O6: =SUM(C6:N6) -> 96
B11: Atendimentos/Mês | C11: Jan | D11: Fev | E11: Mar | F11: Abr | G11: Mai | H11: Jun | I11: Jul | J11: Ago | K11: Set | L11: Out | M11: Nov | N11: Dez | O11: Total
B12: Número de atendimentos (total) | C12: 6925 | D12: 6826 | E12: 7444 | F12: 7714 | G12: 7407 | H12: 6224 | I12: 5875 | O12: =SUM(C12:N12) -> 48415
B15: Meta Contratual: ≥ 70 %

Sheet Indicadores
B2: Indicadores | C2: Fórmula | E2: Jan | F2: Fev | G2: Mar | H2: Abr | I2: Mai | J2: Jun | K2: Jul | L2: Ago | M2: Set | N2: Out | O2: Nov | P2: Dez | Q2: Total | R2: Meta Contratualizada
B3: Taxa de Satisfação | C3: Nº de Resultados Bom/Ótimo | D3: X 100 | E3: =IF(Dados!C3="","",(Dados!C4/Dados!C3)) -> 0.98461538 | F3: =IF(Dados!D3="","",(Dados!D4/Dados!D3)) -> 0.97951719 | G3: =IF(Dados!E3="","",(Dados!E4/Dados!E3)) -> 0.97951719 | H3: =IF(Dados!F3="","",(Dados!F4/Dados!F3)) -> 0.96923077 | I3: =IF(Dados!G3="","",(Dados!G4/Dados!G3)) -> 0.98601399 | J3: =IF(Dados!H3="","",(Dados!H4/Dados!H3)) -> 0.98076923 | K3: =IF(Dados!I3="","",(Dados!I4/Dados!I3)) -> 0.98329993 | L3: =IF(Dados!J3="","",(Dados!J4/Dados!J3)) -> 0.98251748 | ... Q3: =IF(Dados!O3="","",(Dados!O4/Dados!O3)) -> 0.98071283 | R3: 0.7
C4: Nº de Pesquisas Realizadas
B5: Taxa de Insatisfação | C5: Nº de Resultados Ruim/Péssimo | D5: X 100 | E5: =IF(Dados!C3="","",(Dados!C5/Dados!C3)) -> 0.0097902098 | F5: =IF(Dados!D3="","",(Dados!D5/Dados!D3)) -> 0.0087783467 | G5: =IF(Dados!E3="","",(Dados!E5/Dados!E3)) -> 0.0087783467 | H5: =IF(Dados!F3="","",(Dados!F5/Dados!F3)) -> 0.013286713 | I5: =IF(Dados!G3="","",(Dados!G5/Dados!G3)) -> 0.0048951049 | J5: =IF(Dados!H3="","",(Dados!H5/Dados!H3)) -> 0.0084615385 | K5: =IF(Dados!I3="","",(Dados!I5/Dados!I3)) -> 0.0066800267 | L5: =IF(Dados!J3="","",(Dados!J5/Dados!J3)) -> 0.0076923077 | ... Q5: =IF(Dados!O3="","",(Dados!O5/Dados!O3)) -> 0.0085325749
C6: Nº de Pesquisas Realizadas
B7: Percentual de Ações Realizadas para Resultados Ruim/Péssimo | C7: Total de Ações Realizadas para Resultados Ruim/Péssimo | D7: X 100 | E7: =IF(Dados!C5="","",IF(Dados!C5=0,"-",(Dados!C6/Dados!C5))) -> 1 | F7: =IF(Dados!D5="","",IF(Dados!D5=0,"-",(Dados!D6/Dados!D5))) -> 1 | G7: =IF(Dados!E5="","",IF(Dados!E5=0,"-",(Dados!E6/Dados!E5))) -> 1 | H7: =IF(Dados!F5="","",IF(Dados!F5=0,"-",(Dados!F6/Dados!F5))) -> 1 | I7: =IF(Dados!G5="","",IF(Dados!G5=0,"-",(Dados!G6/Dados!G5))) -> 1 | J7: =IF(Dados!H5="","",IF(Dados!H5=0,"-",(Dados!H6/Dados!H5))) -> 1 | K7: =IF(Dados!I5="","",IF(Dados!I5=0,"-",(Dados!I6/Dados!I5))) -> 1 | L7: =IF(Dados!J5="","",IF(Dados!J5=0,"-",(Dados!J6/Dados!J5))) -> 1 | ... Q7: =IF(Dados!O5="","",IF(Dados!O5=0,"-",(Dados!O6/Dados!O5))) -> 1
C8: Nº de Resultados Ruim/Péssimo
B11: Atendimentos/Mês | C11: Jan | D11: Fev | E11: Mar | F11: Abr | G11: Mai | H11: Jun | I11: Jul | J11: Ago | K11: Set | L11: Out | M11: Nov | N11: Dez | O11: Total
B12: Número de atendimentos (total) | C12: =Dados!C12 -> 6925 | D12: =Dados!D12 -> 6826 | E12: =Dados!E12 -> 7444 | F12: =Dados!F12 -> 7714 | G12: =Dados!G12 -> 7407 | H12: =Dados!H12 -> 6224 | I12: =Dados!I12 -> 5875 | J12: =Dados!J12 -> 0 | ... O12: =Dados!O12 -> 48415
B13: Nº de Pesquisas Realizadas | C13: =Dados!C3 -> 1430 | D13: =Dados!D3 -> 1367 | E13: =Dados!E3 -> 1367 | F13: =Dados!F3 -> 1430 | G13: =Dados!G3 -> 1430 | H13: =Dados!H3 -> 1300 | I13: =Dados!I3 -> 1497 | J13: =Dados!J3 -> 1430 | ... O13: =Dados!O3 -> 11251
B14: Erro Amostral | C14: =IF(C12="x","",(C17*0.05)/C13) -> 0.01272619 | D14: =IF(D12="x","",(D17*0.05)/D13) -> 0.013302553 | E14: =IF(E12="x","",(E17*0.05)/E13) -> 0.013361657 | F14: =IF(F12="x","",(F17*0.05)/F13) -> 0.012794974 | G14: =IF(G12="x","",(G17*0.05)/G13) -> 0.012769866 | H14: =IF(H12="x","",(H17*0.05)/H13) -> 0.01391643 | I14: =IF(I12="x","",(I17*0.05)/I13) -> 0.012043485 | J14: =IF(J12="x","",(J17*0.05)/J13) -> #DIV/0! | ... O14: =IF(O12="x","",(O17*0.05)/O13) -> #DIV/0!
B16: Nº total de pesquisas a serem aplicadas:
C17: =IF(C12="x","",IF(C12="","",((((1.96*1.96)*(0.5*(1-0.5)))/(0.05*0.05))/(1+(((1.96*1.96)*(0.5*(1-0.5)))/(0.05*0.05*C12)))))) -> 363.96905 | D17: =IF(D12="x","",IF(D12="","",((((1.96*1.96)*(0.5*(1-0.5)))/(0.05*0.05))/(1+(((1.96*1.96)*(0.5*(1-0.5)))/(0.05*0.05*D12)))))) -> 363.69181 | E17: =IF(E12="x","",IF(E12="","",((((1.96*1.96)*(0.5*(1-0.5)))/(0.05*0.05))/(1+(((1.96*1.96)*(0.5*(1-0.5)))/(0.05*0.05*E12)))))) -> 365.30769 | F17: =IF(F12="x","",IF(F12="","",((((1.96*1.96)*(0.5*(1-0.5)))/(0.05*0.05))/(1+(((1.96*1.96)*(0.5*(1-0.5)))/(0.05*0.05*F12)))))) -> 365.93624 | G17: =IF(G12="x","",IF(G12="","",((((1.96*1.96)*(0.5*(1-0.5)))/(0.05*0.05))/(1+(((1.96*1.96)*(0.5*(1-0.5)))/(0.05*0.05*G12)))))) -> 365.21816 | H17: =IF(H12="x","",IF(H12="","",((((1.96*1.96)*(0.5*(1-0.5)))/(0.05*0.05))/(1+(((1.96*1.96)*(0.5*(1-0.5)))/(0.05*0.05*H12)))))) -> 361.82717 | I17: =IF(I12="x","",IF(I12="","",((((1.96*1.96)*(0.5*(1-0.5)))/(0.05*0.05))/(1+(((1.96*1.96)*(0.5*(1-0.5)))/(0.05*0.05*I12)))))) -> 360.58193 | J17: =IF(J12="x","",IF(J12="","",((((1.96*1.96)*(0.5*(1-0.5)))/(0.05*0.05))/(1+(((1.96*1.96)*(0.5*(1-0.5)))/(0.05*0.05*J12)))))) -> #DIV/0! | ... N17: =IF(N12="x","",IF(N12="","",((((1.96*1.96)*(0.5*(1-0.5)))/(0.05*0.05))/(1+(((1.96*1.96)*(0.5*(1-0.5)))/(0.05*0.05*N12)))))) -> #DIV/0! | O17: =SUM(C17:N17) -> #DIV/0!

Sheet Análise de causa- Mês XX 2024
A3: Introdução: Relatório corresponde ao mês XXX. A pesquisa de satisfação é realizada mensalmente na unidade XXX administradas pelo IBASP, com o objetivo de medir seu grau de satisfação com relação ao atendimento e serviços prestados. Essa pesquisa procura identificar os aspectos que o cliente considera satisfatório e permite identificar pontos fracos e fortes do atendimento oferecido. Os resultados são apresentados graficamente.
A4: Metodologia: A pesquisa é amostral e os dados são coletados através de métodos XXX (Inserir o método que é utilizado pela unidade ex: online por link, e-mail ou QR code, ou formato impresso).
A5: Fato/Contexto
A6: Inserir o gráfico do indicador
A7: Causa Raiz/Problemas
A8: Causas: Inserir o que contribuiu (Causa) positava ou negativamente para o resultado.
A9: Plano de ação | J9: Legenda
A10: What (o que será feito) | B10: Why (porquê?) | C10: Who (por quem?) | D10: When (quando será feito?) | E10: Where (onde será feito?) | F10: How (Como será feito?) | G10: Qual é a etapas do processo? | H10: How much (quanto custa?) | I10: Status | J10: Status | K10: Concluído
K11: Atrasado
K12: Em andamento
A14: Nome do responsável pelo preenchimento - Unidade XXX - IDEAS

Sheet Análise Critica
A1: Análise Critica
A2: Mês
A3: O que
A4: Como
A5: Por que
A6: Resultado esperado
A7: Responsável
A8: Descrição dos casos
A9: Desfecho

Sheet Plano de Ação
A1: Plano de Ação 5W 3H
A2: Local: | B2: HEAT
A3: Responsável:
A4: Objetivo:
A5: Processo:
A6: Data Inicial:
A8: Qual problema a ser tratado? | H8: Legenda
H9: Status | I9: Concluído
I10: Atrasado
A12: 5W | F12: 3H | I12: Status
A13: Qual é a ação? (What?) | B13: Por quê? (Why?) | C13: Onde? (Where?) | D13: Quem (Who?) | E13: Quando (When?) | F13: Como? (How?) | G13: Quanto custa? (How much?) | H13: Como medir? (How many?)
A14: Reclamação de paciente da ortopedia | B14: Paciente reclamou da demora do atendimento do secretário da ortopedia. | C14: Ortopedia | D14: Janilza/Emilia | E14: 45295 | F14: Foi comunicado a coordenação e organizada a fila de espera. | G14: Sem custo | H14: Rotina diária da pesquisadora | I14: Concluído
A15: Reclamação paciente da emergência | B15: Paciente reclamou que o cobertor estava muito curto. | C15: Emergência (Unidade de Cuidados) | D15: Janilza/Emilia | E15: 45295 | F15: Comunicada a enfermeira rotina, que providenciou novo cobertor adequado. | G15: sem custo | H15: Rotina diária da pesquisadora | I15: Concluído
A16: Solicitação de mais água na enfermaria | B16: Paciente solicita mais copos de agua. | C16: Emergência (Unidade de Cuidados) | D16: Janilza/Emilia | E16: 45299 | F16: Comunicado ao setor de nutrição que ficou de avaliar o quadro do paciente para ver a possibilidade de colocar mais agua na dieta do apciente. | G16: sem custo | H16: Rotina diária da pesquisadora | I16: Concluído
A17: Familiar perdido no corredor | B17: Familiar estava perdido no corredor sem saber onde era o setor do centro cirurgico. | C17: Centro cirurgico | D17: Janilza/Emilia | E17: 45300 | F17: A pesquisadora orientou o familiar, levando-o ao setor do centro cirurgico. | G17: sem custo | H17: Rotina diária da pesquisadora | I17: Concluído
A18: Paciente cadeirante circulando no hospital sem ajuda | B18: Paciente cadeirante circulando no hospital para consulta com a médica vascular. | C18: Ambulatório | D18: Janilza/Emilia | E18: 45302 | F18: Foi chamado o maqueiro para levar o paciente para o setor do ambulatório. | G18: sem custo | H18: Rotina diária da pesquisadora | I18: Concluído
A19: Reclamação de paciente da Clínica médica | B19: Paciente reclamando que o horário do banho está muito tarde. | C19: Clínica médica | D19: Janilza/Emilia | E19: 45303 | F19: Comunicado a enfermeira rotina, que explicou o paciente a rotina da enfermaria. | G19: sem custo | H19: Rotina diária da pesquisadora | I19: Concluído
A20: Reclamação do paciente da emergência | B20: Paciente reclamando que o patinho estava cheio de urina e as técnicas de enfermagem demoram para trocar. | C20: Emergência (RUE 4) | D20: Janilza/Emilia | E20: 45306 | F20: Comunicado a enfermeira rotina que imediatamente mandou a técnica trocar o patinho. | G20: sem custo | H20: Rotina diária da pesquisadora | I20: Concluído
A21: Reclamação de paciente da Clínica médica | B21: Paciente se queixando que tem muita mosca no setor de clínica médica. | C21: Clínica médica | D21: Janilza/Emilia | E21: 45307 | F21: comunicado ao setor de higienização e limpeza, que mandou um funcionário no setor resolver o problema. | G21: sem custo | H21: Rotina diária da pesquisadora | I21: Concluído
A22: Familiar empurrando cadeira de paciente pelo corredor do hospital | B22: Familiar empurrando paciente na cadeira de rodas para realização de exame no centro de imagem. | C22: Centro de imagem | D22: Janilza/Emilia | E22: 45309 | F22: Foi chamado maqueiro para conduzir o paciente ao setor de imagens. | G22: sem custo | H22: Rotina diária da pesquisadora | I22: Concluído
A23: Paciente reclamando do curativo | B23: Paciente reclamando que o curativo estava vazando. | C23: Clínica médica | D23: Janilza/Emilia | E23: 45313 | F23: Comunicado a rotina do setor, que providenciou a troca do curativo. | G23: sem custo | H23: Rotina diária da pesquisadora | I23: Concluído
A24: Paciente se queixando de atendimento médico | B24: Paciente se queixando que o médico foi embora e não o atendeu. | C24: Emergência | D24: Janilza/Emilia | E24: 45314 | F24: Comunicado a gerente de enfermagem da emergência que providenciou outro médico para atender o paciente. | G24: sem custo | H24: Rotina diária da pesquisadora | I24: Concluído
A25: Paciente reclamando da emergência (RUE 4) | B25: Paciente reclamando que as técnicas de enfermagem demoram muito para atendê-los. | C25: Emergência | D25: Janilza/Emilia | E25: 45315 | F25: Comunicado a enfermeira da rotina que ficou de verificar o motivo da demora. | G25: sem custo | H25: Rotina diária da pesquisadora | I25: Concluído
... A109: Paciente da clínica médica reclamando do atendimento da técnica de enfermagem | B109: Paciente reclamando que a técnica de enfermagem foi grosseira e o tratou mal | C109: Clínica médica | D109: Janilza/Emilia | E109: 45532 | F109: Comunicado a enfermeira da rotina que foi conversar com o paciente e acolhe-lo | G109: sem custo | H109: Rotina diária da pesquisadora | I109: Concluído
